BEGIN:VCALENDAR
VERSION:2.0
PRODID:-//ilmasuccess.com - ECPv6.15.20//NONSGML v1.0//EN
CALSCALE:GREGORIAN
METHOD:PUBLISH
X-ORIGINAL-URL:https://ilmasuccess.com
X-WR-CALDESC:Évènements pour ilmasuccess.com
REFRESH-INTERVAL;VALUE=DURATION:PT1H
X-Robots-Tag:noindex
X-PUBLISHED-TTL:PT1H
BEGIN:VTIMEZONE
TZID:Europe/Paris
BEGIN:DAYLIGHT
TZOFFSETFROM:+0100
TZOFFSETTO:+0200
TZNAME:CEST
DTSTART:20250330T010000
END:DAYLIGHT
BEGIN:STANDARD
TZOFFSETFROM:+0200
TZOFFSETTO:+0100
TZNAME:CET
DTSTART:20251026T010000
END:STANDARD
BEGIN:DAYLIGHT
TZOFFSETFROM:+0100
TZOFFSETTO:+0200
TZNAME:CEST
DTSTART:20260329T010000
END:DAYLIGHT
BEGIN:STANDARD
TZOFFSETFROM:+0200
TZOFFSETTO:+0100
TZNAME:CET
DTSTART:20261025T010000
END:STANDARD
BEGIN:DAYLIGHT
TZOFFSETFROM:+0100
TZOFFSETTO:+0200
TZNAME:CEST
DTSTART:20270328T010000
END:DAYLIGHT
BEGIN:STANDARD
TZOFFSETFROM:+0200
TZOFFSETTO:+0100
TZNAME:CET
DTSTART:20271031T010000
END:STANDARD
END:VTIMEZONE
BEGIN:VEVENT
DTSTART;TZID=Europe/Paris:20260327T080000
DTEND;TZID=Europe/Paris:20260327T170000
DTSTAMP:20260421T123902
CREATED:20250929T221157Z
LAST-MODIFIED:20250929T222135Z
UID:3587-1774598400-1774630800@ilmasuccess.com
SUMMARY:Spring School on Numerical Approximation of Waves\, March 2026
DESCRIPTION:spring school on ‘Numerical Approximation of  Waves – Multiple Scales and High Frequencies’\, which will take place from  March 23 to March 27\, 2026 at Karlsruhe Institute of Technology\, Germany.\nThe school focuses on the numerical approximation of complex wave propagation phenomena in heterogeneous and high-frequency contexts. Application examples range from classical scattering problems to wave propagation in metamaterials. These types of problems present significant\nchallenges to standard discretization methods\, as they often necessitate extremely fine meshes to produce meaningful approximations. The school will present strategies for reliable simulations at a feasible computational cost using problem-specific discretization techniques. \nLectures will be given by\n– Martin Averseng (University of Angers)\n– Euan Spence (University of Bath)\n– Barbara Verfürth (University of Bonn) \nFor more details and to register\, please visit:\nhttps://www.waves.kit.edu/springschool2026.php
URL:https://ilmasuccess.com/event/spring-school-on-numerical-approximation-of-waves-march-2026/
ATTACH;FMTTYPE=image/jpeg:https://ilmasuccess.com/wp-content/uploads/2025/09/795e55b5-07d9-479c-9a8d-74c6f1763215_page-0001.jpg
END:VEVENT
END:VCALENDAR