BEGIN:VCALENDAR
VERSION:2.0
PRODID:-//ilmasuccess.com - ECPv6.15.20//NONSGML v1.0//EN
CALSCALE:GREGORIAN
METHOD:PUBLISH
X-WR-CALNAME:ilmasuccess.com
X-ORIGINAL-URL:https://ilmasuccess.com
X-WR-CALDESC:Évènements pour ilmasuccess.com
REFRESH-INTERVAL;VALUE=DURATION:PT1H
X-Robots-Tag:noindex
X-PUBLISHED-TTL:PT1H
BEGIN:VTIMEZONE
TZID:UTC
BEGIN:STANDARD
TZOFFSETFROM:+0000
TZOFFSETTO:+0000
TZNAME:UTC
DTSTART:20250101T000000
END:STANDARD
END:VTIMEZONE
BEGIN:VEVENT
DTSTART;TZID=UTC:20260708T080000
DTEND;TZID=UTC:20260709T170000
DTSTAMP:20260421T095142
CREATED:20260419T190846Z
LAST-MODIFIED:20260419T191518Z
UID:3632-1783497600-1783616400@ilmasuccess.com
SUMMARY:SM2A The International Conference on Harmonic Analysis and Applications (ICHAA'26)
DESCRIPTION:«The International Conference on Harmonic Analysis and Applications (ICHAA’26) »\, \nwhich will take place on July 08-09\, 2026 at the Faculty of Sciences and Technology of Fez\, Morocco. \nThe ICHAA’26 conference aims to highlight recent advances in Harmonic Analysis and their applications. This international event will bring together researchers working in the following areas:\nClifford analysis and Spectral theory;\nFunctional analysis and Operator theory;\nHarmonic analysis and Representation theory;\nIntegral transforms and Special functions;\nLie groups and Lie algebras;\nPartial differential equations;\nPolyanalytic function theory;\nTheoretical and Mathematical physics. \nIt seeks to promote scientific exchange\, foster collaboration\, and facilitate the dissemination of innovative research. \nImportant deadlines: \nRegistration and Submission of abstracts: June 15\, 2026 \nNotification of acceptance : June 20\, 2026 \nConference date: July 08-09\, 2026 \nWe would be grateful if you could forward this information to researchers who might be interested. Registration and further information can be found at: \nhttps://ichaa26.sciencesconf.org/ \nWe look forward to meeting you at the Faculty of Sciences and Technology of Fez.
URL:https://ilmasuccess.com/event/sm2a-the-international-conference-on-harmonic-analysis-and-applications-ichaa26/
LOCATION:https://ichaa26.sciencesconf.org/
ATTACH;FMTTYPE=image/jpeg:https://ilmasuccess.com/wp-content/uploads/2022/11/cover_default_image.jpeg
END:VEVENT
END:VCALENDAR