BEGIN:VCALENDAR
VERSION:2.0
PRODID:-//ilmasuccess.com - ECPv6.15.20//NONSGML v1.0//EN
CALSCALE:GREGORIAN
METHOD:PUBLISH
X-ORIGINAL-URL:https://ilmasuccess.com
X-WR-CALDESC:Évènements pour ilmasuccess.com
REFRESH-INTERVAL;VALUE=DURATION:PT1H
X-Robots-Tag:noindex
X-PUBLISHED-TTL:PT1H
BEGIN:VTIMEZONE
TZID:UTC
BEGIN:STANDARD
TZOFFSETFROM:+0000
TZOFFSETTO:+0000
TZNAME:UTC
DTSTART:20220101T000000
END:STANDARD
END:VTIMEZONE
BEGIN:VEVENT
DTSTART;TZID=UTC:20230221T140000
DTEND;TZID=UTC:20230221T170000
DTSTAMP:20260423T194251
CREATED:20230109T183040Z
LAST-MODIFIED:20230109T183040Z
UID:2473-1676988000-1676998800@ilmasuccess.com
SUMMARY:La conférence JANO14
DESCRIPTION:The organizing committee of the JANO14 conference is pleased to invite you on the afternoon of February 21\, 2023\, to a special session on Science\, Technology\, Engineering\, and Mathematics Education (STEM). This half-day of reflection is an opportunity to discuss trend themes of interest to professors and policymakers around a roundtable and with the presence of specialists : \n\nDr. Luis Oyonarte Alcalá; University of Almeria & Dr. Driss Bennis; University Mohammed V in Rabat (MathICs project coordinators): \n\n         Experience of the MathICs project. \n\nDr. Fouad Bennis; Ecole Centrale de Nantes (Actor of the MathICs project):\n\n       The importance of pedagogical approaches in distance learning. \n\nDr. Abdelkrim El Marrakchi; Ministry of Education (Président de l’association ATDTec):\n\n        Contribution of pedagogical robotics in STEM education. \n\nDr. Khalid Berrada; University Mohammed V in Rabat:\n\n         OER\, Open licensing and Open Science. \n\nDr. Naceur Achtaich; University Hassan II in Casablanca (Founder of ABC MathInfo Association):\n\n       Popularization of mathematics and the science caravan experiment. \nThe half-day session is moderated by Dr. Khalid Najib and a poster session is also scheduled in this regard. \nlien : https://jano14.sciencesconf.org/resource/page/id/11 \nLe comité d’organisation de la conférence JANO14 a le plaisir de vous inviter l’après-midi du 21 Février 2023 à une session spéciale sur l’enseignement des sciences\, de la technologie\, de l’ingénierie et des mathématiques (STEM).  Cette demi-journée de réflexion est une occasion de discuter les thématiques de tendance qui intéresse les enseignants et les décideurs autour d’une table ronde et avec la présence des spécialistes : \n\nDr. Luis Oyonarte Alcalá; University of Alméria & Dr. Driss Bennis; University Mohammed V in Rabat. (Coordinateurs du projet MathICs)\n\nExpérience du projet MathICs \n\nDr. Fouad Bennis; Ecole Centrale de Nantes (Acteur du projet MathICs)\n\nL’importance des approches pédagogiques dans l’enseignement à distance.  \n\nDr. Abdelkrim El Marrakchi  Ministry of Education (Président de l’association ATDTec)\n\nApport de la Robotique pédagogique dans l’éducation STEM \n\nDr. Khalid Berrada; University Mohammed V in Rabat\n\nOER\, Open licensing and Open Science \n\nDr. Naceur Achtaich (Fondateur de l’association ABC MathInfo)\n\nExpérience de vulgarisation et caravane scientifique \nLe panel de discussion sera modéré par Dr Khalid Najib et une session poster est également prévue à cet égard. \nComité d’organisation JANO’14
URL:https://ilmasuccess.com/event/la-conference-jano14/
LOCATION:Rabat
ATTACH;FMTTYPE=image/jpeg:https://ilmasuccess.com/wp-content/uploads/2022/11/cover_default_image.jpeg
END:VEVENT
END:VCALENDAR