BEGIN:VCALENDAR
VERSION:2.0
PRODID:-//ilmasuccess.com - ECPv6.15.20//NONSGML v1.0//EN
CALSCALE:GREGORIAN
METHOD:PUBLISH
X-ORIGINAL-URL:https://ilmasuccess.com
X-WR-CALDESC:Évènements pour ilmasuccess.com
REFRESH-INTERVAL;VALUE=DURATION:PT1H
X-Robots-Tag:noindex
X-PUBLISHED-TTL:PT1H
BEGIN:VTIMEZONE
TZID:UTC
BEGIN:STANDARD
TZOFFSETFROM:+0000
TZOFFSETTO:+0000
TZNAME:UTC
DTSTART:20220101T000000
END:STANDARD
END:VTIMEZONE
BEGIN:VEVENT
DTSTART;TZID=UTC:20230215T080000
DTEND;TZID=UTC:20230217T170000
DTSTAMP:20260423T195540
CREATED:20230210T173032Z
LAST-MODIFIED:20230210T173032Z
UID:2506-1676448000-1676653200@ilmasuccess.com
SUMMARY:Salon Pedagogic africa Smart City 15-17 2023
DESCRIPTION:Le 1er Salon « Pedagogic Africa Smart City //INGÉNIERIE MAROCAINE AU SERVICE DE LA VILLE INTELLIGENTE »\, sera organisé du 15 au 17 mars 2023\, parrainé par la Cité d’Innovation et de Transfert de Technologies (CITT) de l’Université Hassan II de Casablanca et organisé par le Bureau d’étude et d’Ingénierie INNOVATEL Engineering ;  en partenariat avec la Fédération Marocaine du Conseil et de L’ingénierie. \nCi-joint vous trouverez les documents relatifs au salon pedagogic africa Smart City. \nAfin de permettre la participation des étudiants et Enseignants de l’UH2C veuillez utiliser le lien vers le site de l’événement : \nhttps://event.innovatel.ma \nBROCHURE SPONSORING SALON SPASC V FINAL 10\n 
URL:https://ilmasuccess.com/event/salon-pedagogic-africa-smart-city-15-17-2023/
LOCATION:la Cité d’Innovation et de Transfert de Technologies (CITT) de l’Université Hassan II de Casablanca
ATTACH;FMTTYPE=image/jpeg:https://ilmasuccess.com/wp-content/uploads/2022/11/cover_default_image.jpeg
END:VEVENT
BEGIN:VEVENT
DTSTART;TZID=UTC:20230215T083000
DTEND;TZID=UTC:20230215T170000
DTSTAMP:20260423T195540
CREATED:20230214T155230Z
LAST-MODIFIED:20230214T155329Z
UID:2514-1676449800-1676480400@ilmasuccess.com
SUMMARY:Cours d'Algèbre 2022-2023 S2 SMP-SMC
DESCRIPTION:
URL:https://ilmasuccess.com/event/cours-dalgebre-2022-2023-s2-smp-smc/
LOCATION:Faculté des Sciences Ben M’Sik
ATTACH;FMTTYPE=image/png:https://ilmasuccess.com/wp-content/uploads/2023/02/Cours-algebre-2022-2023-S2-SMP-SMC.png
ORGANIZER;CN="ILMA SUCCESS":MAILTO:ilmasuccesscom@gmail.com
END:VEVENT
END:VCALENDAR