BEGIN:VCALENDAR
VERSION:2.0
PRODID:-//ilmasuccess.com - ECPv6.15.20//NONSGML v1.0//EN
CALSCALE:GREGORIAN
METHOD:PUBLISH
X-WR-CALNAME:ilmasuccess.com
X-ORIGINAL-URL:https://ilmasuccess.com
X-WR-CALDESC:Évènements pour ilmasuccess.com
REFRESH-INTERVAL;VALUE=DURATION:PT1H
X-Robots-Tag:noindex
X-PUBLISHED-TTL:PT1H
BEGIN:VTIMEZONE
TZID:UTC
BEGIN:STANDARD
TZOFFSETFROM:+0000
TZOFFSETTO:+0000
TZNAME:UTC
DTSTART:20220101T000000
END:STANDARD
END:VTIMEZONE
BEGIN:VEVENT
DTSTART;TZID=UTC:20230209T083000
DTEND;TZID=UTC:20230209T170000
DTSTAMP:20260423T195424
CREATED:20230120T231753Z
LAST-MODIFIED:20230208T191002Z
UID:2481-1675931400-1675962000@ilmasuccess.com
SUMMARY:20ème Journée de Mathématiques et Applications (JMA23)
DESCRIPTION:Appel à communication \nLe Département de Mathématiques et Informatique-Faculté des Sciences Ben M’Sik avec le laboratoire d’Analyse\, Modélisation et Simulation LAMS (Faculté des Sciences Ben M’Sik) \, et en collaboration avec le laboratoire Technologie d’Information et Modélisation TIM (Faculté des Sciences Ben M’Sik) organisent la 20ème édition de la journée de Mathématiques et Applications (JMA23)\, le 09 février 2023. \nPour plus d’information et pour toute inscription\, veuillez consulter le lien de la journée suivant : https://jma23.sciencesconf.org/ \nAffiche\nProgramme JMA23\nproceeding
URL:https://ilmasuccess.com/event/20eme-journee-de-mathematiques-et-applications-jma23/
LOCATION:Faculté des Sciences Ben M’Sik
ATTACH;FMTTYPE=image/jpeg:https://ilmasuccess.com/wp-content/uploads/2023/01/WhatsApp-Image-2022-12-09-at-19.23.52.jpeg
END:VEVENT
END:VCALENDAR