BEGIN:VCALENDAR
VERSION:2.0
PRODID:-//ilmasuccess.com - ECPv6.15.20//NONSGML v1.0//EN
CALSCALE:GREGORIAN
METHOD:PUBLISH
X-WR-CALNAME:ilmasuccess.com
X-ORIGINAL-URL:https://ilmasuccess.com
X-WR-CALDESC:Évènements pour ilmasuccess.com
REFRESH-INTERVAL;VALUE=DURATION:PT1H
X-Robots-Tag:noindex
X-PUBLISHED-TTL:PT1H
BEGIN:VTIMEZONE
TZID:UTC
BEGIN:STANDARD
TZOFFSETFROM:+0000
TZOFFSETTO:+0000
TZNAME:UTC
DTSTART:20210101T000000
END:STANDARD
END:VTIMEZONE
BEGIN:VTIMEZONE
TZID:Africa/Casablanca
BEGIN:DAYLIGHT
TZOFFSETFROM:+0100
TZOFFSETTO:+0000
TZNAME:+00
DTSTART:20210411T020000
END:DAYLIGHT
BEGIN:STANDARD
TZOFFSETFROM:+0000
TZOFFSETTO:+0100
TZNAME:+01
DTSTART:20210516T020000
END:STANDARD
BEGIN:DAYLIGHT
TZOFFSETFROM:+0100
TZOFFSETTO:+0000
TZNAME:+00
DTSTART:20220327T020000
END:DAYLIGHT
BEGIN:STANDARD
TZOFFSETFROM:+0000
TZOFFSETTO:+0100
TZNAME:+01
DTSTART:20220508T020000
END:STANDARD
BEGIN:DAYLIGHT
TZOFFSETFROM:+0100
TZOFFSETTO:+0000
TZNAME:+00
DTSTART:20230319T020000
END:DAYLIGHT
BEGIN:STANDARD
TZOFFSETFROM:+0000
TZOFFSETTO:+0100
TZNAME:+01
DTSTART:20230423T020000
END:STANDARD
END:VTIMEZONE
BEGIN:VEVENT
DTSTART;TZID=UTC:20220627T080000
DTEND;TZID=UTC:20220730T170000
DTSTAMP:20260424T053245
CREATED:20220225T143820Z
LAST-MODIFIED:20220225T143820Z
UID:713-1656316800-1659200400@ilmasuccess.com
SUMMARY:The Second Edition of the International Workshop on interaction between opertor Theory and linear Dynamical Systems "IWOTDS 2022"
DESCRIPTION:
URL:https://ilmasuccess.com/event/the-second-edition-of-the-international-workshop-on-interaction-between-opertor-theory-and-linear-dynamical-systems-iwotds-2022/
LOCATION:Faculty of sciences\, El jadida\, EL JADIDA\, Morocco
ATTACH;FMTTYPE=image/jpeg:https://ilmasuccess.com/wp-content/uploads/2022/02/WhatsApp-Image-2022-02-24-at-14.20.38.jpeg
ORGANIZER;CN="Fondamental Mathematics Laboratory%2C Faculty of Sciences Chouaib Dokkali university":MAILTO:amouch.m@ucd.ac.ma
END:VEVENT
BEGIN:VEVENT
DTSTART;TZID=Africa/Casablanca:20220725T170000
DTEND;TZID=Africa/Casablanca:20220725T190000
DTSTAMP:20260424T053245
CREATED:20220707T232541Z
LAST-MODIFIED:20220707T233003Z
UID:1406-1658768400-1658775600@ilmasuccess.com
SUMMARY:Formation ” Réussir sa candidature en ligne “EN LIGNE GRATUITE
DESCRIPTION:FORMATION gratuite et en ligne \nTitre: Réussir sa candidature en ligne \nOrganisée par ILMA SUCCESS en Partenariat avec la Société JU2 COM \nFormateur:  Pr FADMA ANDAM\, Professeur universitaire à la Faculté des Sciences Ben M’Sik \nDate: Lundi 25 Juillet 2022 \nHeure: du 17h00 à 19H00. \nPour plus d’information veuillez consulter le lien suivant \nhttps://ilmasuccess.com/cours/formation-reussir-sa-candidature-en-ligne-en-ligne-gratuite/
URL:https://ilmasuccess.com/event/formation-reussir-sa-candidature-en-ligne-en-ligne-gratuite/
LOCATION:En ligne
ATTACH;FMTTYPE=image/jpeg:https://ilmasuccess.com/wp-content/uploads/2022/07/Reussir-sa-candidature-en-ligne.jpg
ORGANIZER;CN="ILMA SUCCESS":MAILTO:ilmasuccesscom@gmail.com
END:VEVENT
END:VCALENDAR